BEGIN:VCALENDAR
VERSION:2.0
PRODID:-//eventon.com NONSGML v1.0//EN
CALSCALE:GREGORIAN
METHOD:PUBLISH
BEGIN:VEVENT
UID:69e745662c3c6
DTSTAMP:20260421T093742Z
DTSTART:20261010
DTEND:20261011
LOCATION:
SUMMARY:Herbstferien
DESCRIPTION:&nbsp; &nbsp;\nhttps://grundschule-rantrum.de/events/herbstferi
 en-3/
URL:https://grundschule-rantrum.de/events/herbstferien-3/
END:VEVENT
END:VCALENDAR