BEGIN:VCALENDAR
VERSION:2.0
PRODID:-//eventon.com NONSGML v1.0//EN
CALSCALE:GREGORIAN
METHOD:PUBLISH
BEGIN:VEVENT
UID:69e745939b025
DTSTAMP:20260421T093827Z
DTSTART:20261221
DTEND:20261222
LOCATION:
SUMMARY:Weihnachtsferien 2026
DESCRIPTION:&nbsp; &nbsp;\nhttps://grundschule-rantrum.de/events/weihnachts
 ferien-2026/
URL:https://grundschule-rantrum.de/events/weihnachtsferien-2026/
END:VEVENT
END:VCALENDAR