BEGIN:VCALENDAR
VERSION:2.0
PRODID:-//eventon.com NONSGML v1.0//EN
CALSCALE:GREGORIAN
METHOD:PUBLISH
BEGIN:VEVENT
UID:69e5e09400232
DTSTAMP:20260420T081516Z
DTSTART:20251031
DTEND:20251101
LOCATION:
SUMMARY:Reformationstag
DESCRIPTION:Feiertag: Keine Schule und keine Betreuung &nbsp;\nhttps://grun
 dschule-rantrum.de/events/reformationstag-2/
URL:https://grundschule-rantrum.de/events/reformationstag-2/
END:VEVENT
END:VCALENDAR