BEGIN:VCALENDAR
VERSION:2.0
PRODID:-//eventon.com NONSGML v1.0//EN
CALSCALE:GREGORIAN
METHOD:PUBLISH
BEGIN:VEVENT
UID:69e745b73d490
DTSTAMP:20260421T093903Z
DTSTART:20260605
DTEND:20260606
LOCATION:
SUMMARY:Schulfest
DESCRIPTION:Alle Klassen\nhttps://grundschule-rantrum.de/events/schulfest-4
 /
URL:https://grundschule-rantrum.de/events/schulfest-4/
END:VEVENT
END:VCALENDAR