BEGIN:VCALENDAR
VERSION:2.0
PRODID:-//eventon.com NONSGML v1.0//EN
CALSCALE:GREGORIAN
METHOD:PUBLISH
BEGIN:VEVENT
UID:69e745e58a9c7
DTSTAMP:20260421T093949Z
DTSTART:20260515
DTEND:20260516
LOCATION:
SUMMARY:Ferientag
DESCRIPTION:An diesem Tag findet kein Unterricht und auch keine  Betreuung
  statt.\nhttps://grundschule-rantrum.de/events/ferientag-2/
URL:https://grundschule-rantrum.de/events/ferientag-2/
END:VEVENT
END:VCALENDAR