BEGIN:VCALENDAR
VERSION:2.0
PRODID:-//eventon.com NONSGML v1.0//EN
CALSCALE:GREGORIAN
METHOD:PUBLISH
BEGIN:VEVENT
UID:69e4c35fe1d79
DTSTAMP:20260419T115823Z
DTSTART:20250324T124500Z
DTEND:20250324T140000Z
LOCATION:
SUMMARY:Fachkonferenz Englisch
DESCRIPTION:13.45 Uhr\nhttps://grundschule-rantrum.de/events/fachkonferenz-
 englisch-7/
URL:https://grundschule-rantrum.de/events/fachkonferenz-englisch-7/
END:VEVENT
END:VCALENDAR