BEGIN:VCALENDAR
VERSION:2.0
PRODID:-//eventon.com NONSGML v1.0//EN
CALSCALE:GREGORIAN
METHOD:PUBLISH
BEGIN:VEVENT
UID:69e745621c329
DTSTAMP:20260421T093738Z
DTSTART:20260514
DTEND:20260515
LOCATION:
SUMMARY:Himmelfahrt
DESCRIPTION:&nbsp;\nhttps://grundschule-rantrum.de/events/weihnachtsferien-
 2025/
URL:https://grundschule-rantrum.de/events/weihnachtsferien-2025/
END:VEVENT
END:VCALENDAR