BEGIN:VCALENDAR
VERSION:2.0
PRODID:-//eventon.com NONSGML v1.0//EN
CALSCALE:GREGORIAN
METHOD:PUBLISH
BEGIN:VEVENT
UID:69e7389b32580
DTSTAMP:20260421T084307Z
DTSTART:20250613
DTEND:20250614
LOCATION:
SUMMARY:Schulfest
DESCRIPTION:Alle Klassen.\nhttps://grundschule-rantrum.de/events/schulfest-
 3/
URL:https://grundschule-rantrum.de/events/schulfest-3/
END:VEVENT
END:VCALENDAR