BEGIN:VCALENDAR
VERSION:2.0
PRODID:-//eventon.com NONSGML v1.0//EN
CALSCALE:GREGORIAN
METHOD:PUBLISH
BEGIN:VEVENT
UID:69e7328d6bb96
DTSTAMP:20260421T081717Z
DTSTART:20250407T114500Z
DTEND:20250407T130000Z
LOCATION:
SUMMARY:Fachkonferenz Sachunterricht
DESCRIPTION:13.45 Uhr\nhttps://grundschule-rantrum.de/events/fachkonferenz-
 sachunterricht-5/
URL:https://grundschule-rantrum.de/events/fachkonferenz-sachunterricht-5/
END:VEVENT
END:VCALENDAR