BEGIN:VCALENDAR
VERSION:2.0
PRODID:-//eventon.com NONSGML v1.0//EN
CALSCALE:GREGORIAN
METHOD:PUBLISH
BEGIN:VEVENT
UID:69e5e33a22364
DTSTAMP:20260420T082634Z
DTSTART:20241125T140000Z
DTEND:20241125T150000Z
LOCATION:
SUMMARY:Fachkonferenz Kunst
DESCRIPTION:15.00 Uhr\nhttps://grundschule-rantrum.de/events/fachkonferenz-
 kunst-2/
URL:https://grundschule-rantrum.de/events/fachkonferenz-kunst-2/
END:VEVENT
END:VCALENDAR