BEGIN:VCALENDAR
VERSION:2.0
PRODID:-//eventon.com NONSGML v1.0//EN
CALSCALE:GREGORIAN
METHOD:PUBLISH
BEGIN:VEVENT
UID:69e5e0e9e65fe
DTSTAMP:20260420T081641Z
DTSTART:20241219
DTEND:20241220
LOCATION:
SUMMARY:Weihnachtsferien 2024
DESCRIPTION:Keine Schule und keine Betreuung!\nhttps://grundschule-rantrum.
 de/events/weihnachtsferien-2024/
URL:https://grundschule-rantrum.de/events/weihnachtsferien-2024/
END:VEVENT
END:VCALENDAR