BEGIN:VCALENDAR
VERSION:2.0
PRODID:-//eventon.com NONSGML v1.0//EN
CALSCALE:GREGORIAN
METHOD:PUBLISH
BEGIN:VEVENT
UID:69e7363393d65
DTSTAMP:20260421T083251Z
DTSTART:20241008
DTEND:20241009
LOCATION:
SUMMARY:Teamtraining für Klasse 3b mit Dirk Buhmann
DESCRIPTION:Klasse 3b\nhttps://grundschule-rantrum.de/events/teamtraining-m
 it-dirk-buhmann-2/
URL:https://grundschule-rantrum.de/events/teamtraining-mit-dirk-buhmann-2/
END:VEVENT
END:VCALENDAR