BEGIN:VCALENDAR
VERSION:2.0
PRODID:-//eventon.com NONSGML v1.0//EN
CALSCALE:GREGORIAN
METHOD:PUBLISH
BEGIN:VEVENT
UID:69e735720abf3
DTSTAMP:20260421T082938Z
DTSTART:20231125T130000Z
DTEND:20231125T160000Z
LOCATION:
SUMMARY:Vorweihnachtlicher Basar 2023
DESCRIPTION:Vorweihnachtlicher Basar 2023\nhttps://grundschule-rantrum.de/e
 vents/vorweihnachtlicher-basar-2023/
URL:https://grundschule-rantrum.de/events/vorweihnachtlicher-basar-2023/
END:VEVENT
END:VCALENDAR