BEGIN:VCALENDAR
VERSION:2.0
PRODID:-//eventon.com NONSGML v1.0//EN
CALSCALE:GREGORIAN
METHOD:PUBLISH
BEGIN:VEVENT
UID:69e5f47392098
DTSTAMP:20260420T094003Z
DTSTART:20240501
DTEND:20240502
LOCATION:
SUMMARY:Tag der Arbeit
DESCRIPTION:An diesem Tag findet kein Unterricht und keine Betreuung statt.
 \nhttps://grundschule-rantrum.de/events/pfingstferientag/
URL:https://grundschule-rantrum.de/events/pfingstferientag/
END:VEVENT
END:VCALENDAR