BEGIN:VCALENDAR
VERSION:2.0
PRODID:-//eventon.com NONSGML v1.0//EN
CALSCALE:GREGORIAN
METHOD:PUBLISH
BEGIN:VEVENT
UID:69e7389b32197
DTSTAMP:20260421T084307Z
DTSTART:20240205T230000Z
DTEND:20240212T230000Z
LOCATION:
SUMMARY:Elternsprechtage
DESCRIPTION:Die Klassenlehrkräfte vereinbaren mit den Eltern individuelle 
 Termine. Für die 1. Klasse finden verpflichtende Lernentwicklungsgespräch
 e statt und für die 4. Klasse finden verpflichtende Beratungsgespräche zu
 r Schulübergangsempfehlung statt.\nhttps://grundschule-rantrum.de/events/e
 lternsprechtage-2/
URL:https://grundschule-rantrum.de/events/elternsprechtage-2/
END:VEVENT
END:VCALENDAR