BEGIN:VCALENDAR
VERSION:2.0
PRODID:-//eventon.com NONSGML v1.0//EN
CALSCALE:GREGORIAN
METHOD:PUBLISH
BEGIN:VEVENT
UID:69ebe7407179c
DTSTAMP:20260424T215720Z
DTSTART:20221003
DTEND:20221004
LOCATION:
SUMMARY:Tag der deutschen Einheit
DESCRIPTION:An diesem Tag findet kein Unterricht und auch keine Betreuung s
 tatt.\nhttps://grundschule-rantrum.de/events/tag-der-deutschen-einheit/
URL:https://grundschule-rantrum.de/events/tag-der-deutschen-einheit/
END:VEVENT
END:VCALENDAR