BEGIN:VCALENDAR
VERSION:2.0
PRODID:-//eventon.com NONSGML v1.0//EN
CALSCALE:GREGORIAN
METHOD:PUBLISH
BEGIN:VEVENT
UID:69e703c3310a3
DTSTAMP:20260421T045739Z
DTSTART:20230426T054000Z
DTEND:20230426T102500Z
LOCATION:
SUMMARY:Radfahrtraining Klasse 4
DESCRIPTION:Radfahrtraining Klasse 4\nhttps://grundschule-rantrum.de/events
 /radfahrtraining-klasse-4-2/
URL:https://grundschule-rantrum.de/events/radfahrtraining-klasse-4-2/
END:VEVENT
END:VCALENDAR