BEGIN:VCALENDAR
VERSION:2.0
PRODID:-//eventon.com NONSGML v1.0//EN
CALSCALE:GREGORIAN
METHOD:PUBLISH
BEGIN:VEVENT
UID:69ed529900367
DTSTAMP:20260425T234737Z
DTSTART:20230713T220000Z
DTEND:20230713T220000Z
LOCATION:
SUMMARY:Zeugnisausgabe
DESCRIPTION:Kl.1-4\nhttps://grundschule-rantrum.de/events/zeugnisausgabe-2/
URL:https://grundschule-rantrum.de/events/zeugnisausgabe-2/
END:VEVENT
END:VCALENDAR