BEGIN:VCALENDAR
VERSION:2.0
PRODID:-//eventon.com NONSGML v1.0//EN
CALSCALE:GREGORIAN
METHOD:PUBLISH
BEGIN:VEVENT
UID:69e735720c257
DTSTAMP:20260421T082938Z
DTSTART:20230217T064000Z
DTEND:20230217T112500Z
LOCATION:
SUMMARY:Fasching
DESCRIPTION:Kl.1-4\nhttps://grundschule-rantrum.de/events/fasching/
URL:https://grundschule-rantrum.de/events/fasching/
END:VEVENT
END:VCALENDAR