BEGIN:VCALENDAR
VERSION:2.0
PRODID:-//eventon.com NONSGML v1.0//EN
CALSCALE:GREGORIAN
METHOD:PUBLISH
BEGIN:VEVENT
UID:69e5e0e9e98d5
DTSTAMP:20260420T081641Z
DTSTART:20221005T120000Z
DTEND:20221005T150000Z
LOCATION:
SUMMARY:Anmeldegespräche für die neuen Erstklässlerinnen und Erstklässler
DESCRIPTION:Termine werden im Sekretariat vergeben.\nhttps://grundschule-ra
 ntrum.de/events/anmeldegespraeche-fuer-die-neuen-erstklaesslerinnen-und-ers
 tklaessler/
URL:https://grundschule-rantrum.de/events/anmeldegespraeche-fuer-die-neuen-erstklaesslerinnen-und-erstklaessler/
END:VEVENT
END:VCALENDAR